BEGIN:VCALENDAR
VERSION:2.0
PRODID:-//ARennes - ECPv6.15.20//NONSGML v1.0//EN
CALSCALE:GREGORIAN
METHOD:PUBLISH
X-WR-CALNAME:ARennes
X-ORIGINAL-URL:https://apparennes.com
X-WR-CALDESC:Évènements pour ARennes
REFRESH-INTERVAL;VALUE=DURATION:PT1H
X-Robots-Tag:noindex
X-PUBLISHED-TTL:PT1H
BEGIN:VTIMEZONE
TZID:Europe/Paris
BEGIN:DAYLIGHT
TZOFFSETFROM:+0100
TZOFFSETTO:+0200
TZNAME:CEST
DTSTART:20250330T010000
END:DAYLIGHT
BEGIN:STANDARD
TZOFFSETFROM:+0200
TZOFFSETTO:+0100
TZNAME:CET
DTSTART:20251026T010000
END:STANDARD
BEGIN:DAYLIGHT
TZOFFSETFROM:+0100
TZOFFSETTO:+0200
TZNAME:CEST
DTSTART:20260329T010000
END:DAYLIGHT
BEGIN:STANDARD
TZOFFSETFROM:+0200
TZOFFSETTO:+0100
TZNAME:CET
DTSTART:20261025T010000
END:STANDARD
BEGIN:DAYLIGHT
TZOFFSETFROM:+0100
TZOFFSETTO:+0200
TZNAME:CEST
DTSTART:20270328T010000
END:DAYLIGHT
BEGIN:STANDARD
TZOFFSETFROM:+0200
TZOFFSETTO:+0100
TZNAME:CET
DTSTART:20271031T010000
END:STANDARD
END:VTIMEZONE
BEGIN:VEVENT
DTSTART;TZID=Europe/Paris:20260405T180000
DTEND;TZID=Europe/Paris:20260405T190000
DTSTAMP:20260425T141202
CREATED:20260420T013335Z
LAST-MODIFIED:20260420T013335Z
UID:13870-1775412000-1775415600@apparennes.com
SUMMARY:Bertrand Belin
DESCRIPTION:Ça commence par un pont. Ou une passerelle\, pour les plus timides. Du rivage de « La Comédie »\, dénouement ultra existentiel de Tambour Vision\, à celui de « L’Inconnu en personne »\, cultivant une intériorité synthétique qui ne demande qu’à être partagée. Un « état de nos coexistences » refusant les jugements hâtifs. Le tempo s’accélère\, les cordes s’élèvent avec grâce. Et le timbre de Bertrand Belin résonne comme personne.\n Depuis la parution de Tambour Vision\, en 2022\, on l’a vu dans deux films\, Le Roman de Jim des frères Larrieu (avec qui il avait déjà tourné Tralala) et L’Amour et les forêts\, de Valérie Donzelli. Au théâtre également dans « En travers de sa gorge » de Marc Lainé. Et puis il a écrit un nouveau livre\, La Figure. Où\, en filigrane\, il commente le théâtre de ses origines\, flanqué d’un drôle d’alter ego\, guide dantesque\, voix intérieure devenue camarade de chaque instant. S’y distingue\, une fois encore\, la scansion de son verbe\, son goût pour la structure circulaire. Lesquelles se retrouvent dans Watt. Bertrand Belin manipule toujours une matière malléable\, une pop volontairement égarée entre rock et chanson\, moirée de jazz et de blues\, habitée par une question qui le passionne\, au même titre que nous tous\, d’ailleurs : la verticalité.\nVisuel © Héloïse Esquié
URL:https://apparennes.com/event/bertrand-belin/
LOCATION:Cabaret Botanique\, Parc du Thabor\, Rennes\, Bretagne\, 35000\, France
CATEGORIES:Concert Musique
ATTACH;FMTTYPE=image/jpeg:https://apparennes.com/wp-content/uploads/2026/04/bertrand-belin-1600x800-2.jpg
END:VEVENT
BEGIN:VEVENT
DTSTART;TZID=Europe/Paris:20260405T210000
DTEND;TZID=Europe/Paris:20260405T220000
DTSTAMP:20260425T141202
CREATED:20260420T013331Z
LAST-MODIFIED:20260420T013331Z
UID:13868-1775422800-1775426400@apparennes.com
SUMMARY:Arøne + Saro + Trinix
DESCRIPTION:Un mélange d’insolence et d’insouciance s’échappe de la musique d’arøne. Son mantra: nous faire pleurer en dansant. Là où les mélodies entraînantes s’accordent avec l’émotion la plus pure. Une sensibilité à fleur de peau qui nous renvoie la nôtre comme un miroir.\n Depuis son dernier projet « fin d’été »\, arøne a pris le temps. Celui de composer\, d’écrire pour aller au plus proche de son émotion. Du temps pour faire le bilan\, aussi\, sortir la tête du tourbillon parisien auquel elle refuse de s’abandonner. Un pied dedans pour réaliser ses rêves\, un dehors pour ne jamais trahir l’ado qu’elle était. Alors elle est retournée dans les sonorités rock de son enfance\, pour ramener quelques lignes de basse et de guitare et l’émotion brute de la teenage pop de son adolescence. A aussi trouvé de l’inspiration dans ses coups de coeur d’adulte\, de The Weeknd à Judeline en passant par Billie Eilish et Shygirl.\nElle a élargi son cercle\, son noyau\, pour se confronter à d’autres visions musicales\, une façon de s’ouvrir sans jamais manquer de revenir au centre\, à ce qu’elle sait faire de mieux : une musique qui lui ressemble. Son amour et sa sincérité comme constante.\nVisuel © DR
URL:https://apparennes.com/event/arone-saro-trinix/
LOCATION:Cabaret Botanique\, Parc du Thabor\, Rennes\, Bretagne\, 35000\, France
CATEGORIES:Concert Musique
ATTACH;FMTTYPE=image/jpeg:https://apparennes.com/wp-content/uploads/2026/04/trinix-1600x800-2.jpg
END:VEVENT
END:VCALENDAR