BEGIN:VCALENDAR
VERSION:2.0
PRODID:-//ARennes - ECPv6.15.20//NONSGML v1.0//EN
CALSCALE:GREGORIAN
METHOD:PUBLISH
X-ORIGINAL-URL:https://apparennes.com
X-WR-CALDESC:Évènements pour ARennes
REFRESH-INTERVAL;VALUE=DURATION:PT1H
X-Robots-Tag:noindex
X-PUBLISHED-TTL:PT1H
BEGIN:VTIMEZONE
TZID:Europe/Paris
BEGIN:DAYLIGHT
TZOFFSETFROM:+0100
TZOFFSETTO:+0200
TZNAME:CEST
DTSTART:20250330T010000
END:DAYLIGHT
BEGIN:STANDARD
TZOFFSETFROM:+0200
TZOFFSETTO:+0100
TZNAME:CET
DTSTART:20251026T010000
END:STANDARD
BEGIN:DAYLIGHT
TZOFFSETFROM:+0100
TZOFFSETTO:+0200
TZNAME:CEST
DTSTART:20260329T010000
END:DAYLIGHT
BEGIN:STANDARD
TZOFFSETFROM:+0200
TZOFFSETTO:+0100
TZNAME:CET
DTSTART:20261025T010000
END:STANDARD
BEGIN:DAYLIGHT
TZOFFSETFROM:+0100
TZOFFSETTO:+0200
TZNAME:CEST
DTSTART:20270328T010000
END:DAYLIGHT
BEGIN:STANDARD
TZOFFSETFROM:+0200
TZOFFSETTO:+0100
TZNAME:CET
DTSTART:20271031T010000
END:STANDARD
END:VTIMEZONE
BEGIN:VEVENT
DTSTART;TZID=Europe/Paris:20260409T180000
DTEND;TZID=Europe/Paris:20260409T190000
DTSTAMP:20260424T003333
CREATED:20260420T013438Z
LAST-MODIFIED:20260420T013438Z
UID:13908-1775757600-1775761200@apparennes.com
SUMMARY:Charlie Winston
DESCRIPTION:Avec son nouvel album Love Isn’t Easy\, Charlie Winston nous ouvre les portes d’une histoire d’amour universelle. Non pas une romance éphémère\, mais une relation profonde\, qui se construit pas à pas. On y retrouve les élans des débuts\, les épreuves\, les possibles séparations – mais aussi cette nécessité essentielle : apprendre à s’aimer soi-même pour mieux aimer les autres.\nPour ce 6ème album\, Charlie retrouve son rôle naturel de chef de bande. Entouré de ses musiciens complices\, avec qui il partage la scène depuis deux ans – François Lasserre\, Louis Sommer et Noé Benita – il laisse circuler humour\, émotion et énergie\, offrant un album vibrant et organique\, où la musique respire comme une extension de lui-même.\nCe nouveau projet marque aussi un retour à l’essentiel\, nourri par l’énergie du collectif et une cohésion artistique pleinement assumée. C’est dans cet état d’esprit joyeux que Charlie Winston retrouvera la scène à partir de cet été et jusqu’en 2026.\nVisuel © Jean de Blignères
URL:https://apparennes.com/event/charlie-winston/
LOCATION:Cabaret Botanique\, Parc du Thabor\, Rennes\, Bretagne\, 35000\, France
CATEGORIES:Concert Musique
ATTACH;FMTTYPE=image/jpeg:https://apparennes.com/wp-content/uploads/2026/04/charlie-winston-1600x800-1-1920x900-1.jpg
END:VEVENT
BEGIN:VEVENT
DTSTART;TZID=Europe/Paris:20260409T210000
DTEND;TZID=Europe/Paris:20260409T220000
DTSTAMP:20260424T003333
CREATED:20260420T013435Z
LAST-MODIFIED:20260420T013435Z
UID:13906-1775768400-1775772000@apparennes.com
SUMMARY:James Baker +Naive New Beaters + Etienne De Crécy
DESCRIPTION:À 24 ans\, James Baker trace un chemin singulier dans la nouvelle scène musicale française. Originaire de la banlieue parisienne\, cet artiste autodidacte mêle indie pop\, rock alternatif\, électro et rap. Auteur\, compositeur\, interprète et producteur\, il façonne chaque recoin de son univers\, nourri par un imaginaire très visuel.\nPlus que de simples morceaux\, ses titres racontent des histoires\, influencées par son amour du cinéma. Son prochain projet\, Romy Rose\, s’inspire du film Eternal Sunshine of the Spotless Mind. Ce double EP conceptuel\, aux accents pop mélancoliques et électro\, puise dans des influences comme Djo\, Fontaines D.C.\, Daft Punk ou The Strokes. Il y explore mémoire\, désir d’effacement et résilience émotionnelle.\nAvec une sensibilité brute\, James Baker questionne le déni\, l’amour et l’identité. Chaque morceau agit comme une scène trouble et sincère\, fidèle à une vision artistique qui préfère la vérité au confort.\nVisuel © MONOLOVE
URL:https://apparennes.com/event/james-baker-naive-new-beaters-etienne-de-crecy/
LOCATION:Cabaret Botanique\, Parc du Thabor\, Rennes\, Bretagne\, 35000\, France
CATEGORIES:Concert Musique
ATTACH;FMTTYPE=image/jpeg:https://apparennes.com/wp-content/uploads/2026/04/naive-new-beaters-1600x800-1.jpg
END:VEVENT
END:VCALENDAR