BEGIN:VCALENDAR
VERSION:2.0
PRODID:-//ARennes - ECPv6.15.20//NONSGML v1.0//EN
CALSCALE:GREGORIAN
METHOD:PUBLISH
X-ORIGINAL-URL:https://apparennes.com
X-WR-CALDESC:Évènements pour ARennes
REFRESH-INTERVAL;VALUE=DURATION:PT1H
X-Robots-Tag:noindex
X-PUBLISHED-TTL:PT1H
BEGIN:VTIMEZONE
TZID:Europe/Paris
BEGIN:DAYLIGHT
TZOFFSETFROM:+0100
TZOFFSETTO:+0200
TZNAME:CEST
DTSTART:20250330T010000
END:DAYLIGHT
BEGIN:STANDARD
TZOFFSETFROM:+0200
TZOFFSETTO:+0100
TZNAME:CET
DTSTART:20251026T010000
END:STANDARD
BEGIN:DAYLIGHT
TZOFFSETFROM:+0100
TZOFFSETTO:+0200
TZNAME:CEST
DTSTART:20260329T010000
END:DAYLIGHT
BEGIN:STANDARD
TZOFFSETFROM:+0200
TZOFFSETTO:+0100
TZNAME:CET
DTSTART:20261025T010000
END:STANDARD
BEGIN:DAYLIGHT
TZOFFSETFROM:+0100
TZOFFSETTO:+0200
TZNAME:CEST
DTSTART:20270328T010000
END:DAYLIGHT
BEGIN:STANDARD
TZOFFSETFROM:+0200
TZOFFSETTO:+0100
TZNAME:CET
DTSTART:20271031T010000
END:STANDARD
END:VTIMEZONE
BEGIN:VEVENT
DTSTART;TZID=Europe/Paris:20260411T180000
DTEND;TZID=Europe/Paris:20260411T190000
DTSTAMP:20260425T123204
CREATED:20260420T013523Z
LAST-MODIFIED:20260420T013523Z
UID:13934-1775930400-1775934000@apparennes.com
SUMMARY:Fatoumata Diawara
DESCRIPTION:Fatoumata Diawara\, artiste incontournable et l’une des plus belles voix de l’Afrique moderne\, revient en 2026 avec\, un album profondément personnel et empreint de vérité. Après avoir brillé aux côtés de -M-\, Gorillaz ou encore Herbie Hancock\, l’artiste malienne signe ici une œuvre intime\, sans collaboration\, centrée sur son vécu et ses émotions. À travers\, elle évoque la famille\, la maternité\, la trahison et la résilience\, tout en rendant hommage à son père disparu. Un voyage musical sincère et lumineux\, où chaque note célèbre la vie\, la foi et la force du destin.\nVisuel © Marcello Perego et Yann Orhan
URL:https://apparennes.com/event/fatoumata-diawara/
LOCATION:Cabaret Botanique\, Parc du Thabor\, Rennes\, Bretagne\, 35000\, France
CATEGORIES:Concert Musique
ATTACH;FMTTYPE=image/jpeg:https://apparennes.com/wp-content/uploads/2026/04/fatoumata-diawara-1600x800-1.jpg
END:VEVENT
BEGIN:VEVENT
DTSTART;TZID=Europe/Paris:20260411T200000
DTEND;TZID=Europe/Paris:20260411T210000
DTSTAMP:20260425T123204
CREATED:20260420T013516Z
LAST-MODIFIED:20260420T013516Z
UID:13930-1775937600-1775941200@apparennes.com
SUMMARY:Lujipeka + Romsii
DESCRIPTION:Après avoir annoncé son retour avec les titres inédits « Bruler Paris »\, « Puzzle » et « Paulise »\, Lujipeka a retrouvé son public à travers une série de mini-concerts gratuits sur le « Puzzle Tour ».\nIl revient aujourd’hui avec « La Vie D’Antonio » nouvel extrait de son prochain album\, et en profite pour annoncer les dates de sa nouvelle tournée 2026.\nEn plus de son concert évènement à l’Accor Arena le 7 novembre 2026\, Lujipeka sera de retour sur scène dès février prochain avec plus de 30 dates en France\, Suisse et Belgique.\nVisuel © DR
URL:https://apparennes.com/event/lujipeka-romsii/
LOCATION:Le MeM\, Route de Sainte-Foix 35000 Rennes\, Rennes\, Bretagne\, 35000\, France
CATEGORIES:Concert Musique
ATTACH;FMTTYPE=image/jpeg:https://apparennes.com/wp-content/uploads/2026/04/lujipeka-1600x800-1.jpg
END:VEVENT
BEGIN:VEVENT
DTSTART;TZID=Europe/Paris:20260411T210000
DTEND;TZID=Europe/Paris:20260411T220000
DTSTAMP:20260425T123204
CREATED:20260420T013509Z
LAST-MODIFIED:20260420T013509Z
UID:13926-1775941200-1775944800@apparennes.com
SUMMARY:Louïse Papier + Yann Tiersen + Barbara Butch
DESCRIPTION:Louïse Papier est le projet synth pop minimaliste de Blanche Leblond (bassiste de Clavicule et Championne).\nC’est la fin est un florilège de mélodies entêtantes. Tantôt en français\, tantôt en anglais\, elle distille ses paroles au travers des boîtes à rythme lo-fi\, des vieux orgues et des synthétiseurs vintages. Nous envoûtant dans une ambiance onirique\, sombre et confidentielle. Succédant à l’EP Les idées roses paru en 2022\, son premier album C’est la fin est sorti chez So Fresh So Clean Records en avril 2025. Accompagnée en live de ses 3 musiciens\, les influences oscillent entre Blond Redhead\, Electrelane et Requin Chagrin\nVisuel © DR
URL:https://apparennes.com/event/louise-papier-yann-tiersen-barbara-butch/
LOCATION:Cabaret Botanique\, Parc du Thabor\, Rennes\, Bretagne\, 35000\, France
CATEGORIES:Concert Musique
ATTACH;FMTTYPE=image/jpeg:https://apparennes.com/wp-content/uploads/2026/04/yann-tiersen-1600x800-1.jpg
END:VEVENT
END:VCALENDAR