BEGIN:VCALENDAR
VERSION:2.0
PRODID:-//ARennes - ECPv6.15.20//NONSGML v1.0//EN
CALSCALE:GREGORIAN
METHOD:PUBLISH
X-WR-CALNAME:ARennes
X-ORIGINAL-URL:https://apparennes.com
X-WR-CALDESC:Évènements pour ARennes
REFRESH-INTERVAL;VALUE=DURATION:PT1H
X-Robots-Tag:noindex
X-PUBLISHED-TTL:PT1H
BEGIN:VTIMEZONE
TZID:Europe/Paris
BEGIN:DAYLIGHT
TZOFFSETFROM:+0100
TZOFFSETTO:+0200
TZNAME:CEST
DTSTART:20250330T010000
END:DAYLIGHT
BEGIN:STANDARD
TZOFFSETFROM:+0200
TZOFFSETTO:+0100
TZNAME:CET
DTSTART:20251026T010000
END:STANDARD
BEGIN:DAYLIGHT
TZOFFSETFROM:+0100
TZOFFSETTO:+0200
TZNAME:CEST
DTSTART:20260329T010000
END:DAYLIGHT
BEGIN:STANDARD
TZOFFSETFROM:+0200
TZOFFSETTO:+0100
TZNAME:CET
DTSTART:20261025T010000
END:STANDARD
BEGIN:DAYLIGHT
TZOFFSETFROM:+0100
TZOFFSETTO:+0200
TZNAME:CEST
DTSTART:20270328T010000
END:DAYLIGHT
BEGIN:STANDARD
TZOFFSETFROM:+0200
TZOFFSETTO:+0100
TZNAME:CET
DTSTART:20271031T010000
END:STANDARD
END:VTIMEZONE
BEGIN:VEVENT
DTSTART;TZID=Europe/Paris:20260403T210000
DTEND;TZID=Europe/Paris:20260403T220000
DTSTAMP:20260425T140459
CREATED:20260420T013246Z
LAST-MODIFIED:20260420T013246Z
UID:13842-1775250000-1775253600@apparennes.com
SUMMARY:Bellboy + Speechmaker B2b Nessiel
DESCRIPTION:Les Bellboy\, duo pop baroque formé dans un petit studio entouré de BD\, de cloches et de DVD imagine leur musique comme un terrain d’exploration où chaque morceau devient une expérience. Inspirés par Moebius\, René Laloux\, François de Roubaix ou Air\, ils mêlent lyrisme\, éclectisme et poésie pour créer une musique cinématographique et singulière. Leur nouvelle mixtape de cinq titres explore de nouvelles influences\, de David Bowie à MGMT\, avec des morceaux aussi lumineux que Manille et un hit en collaboration avec Yelle\, UFO.\nVisuel © PAULIEN HERLENT
URL:https://apparennes.com/event/bellboy-speechmaker-b2b-nessiel/
LOCATION:Scène Capeos 360\, Parc du Thabor\, Rennes\, Bretagne\, 35000\, France
CATEGORIES:Concert
ATTACH;FMTTYPE=image/jpeg:https://apparennes.com/wp-content/uploads/2026/04/bellboy-1600x800-1.jpg
END:VEVENT
END:VCALENDAR