BEGIN:VCALENDAR
VERSION:2.0
PRODID:-//ARennes - ECPv6.15.20//NONSGML v1.0//EN
CALSCALE:GREGORIAN
METHOD:PUBLISH
X-ORIGINAL-URL:https://apparennes.com
X-WR-CALDESC:Évènements pour ARennes
REFRESH-INTERVAL;VALUE=DURATION:PT1H
X-Robots-Tag:noindex
X-PUBLISHED-TTL:PT1H
BEGIN:VTIMEZONE
TZID:Europe/Paris
BEGIN:DAYLIGHT
TZOFFSETFROM:+0100
TZOFFSETTO:+0200
TZNAME:CEST
DTSTART:20240331T010000
END:DAYLIGHT
BEGIN:STANDARD
TZOFFSETFROM:+0200
TZOFFSETTO:+0100
TZNAME:CET
DTSTART:20241027T010000
END:STANDARD
BEGIN:DAYLIGHT
TZOFFSETFROM:+0100
TZOFFSETTO:+0200
TZNAME:CEST
DTSTART:20250330T010000
END:DAYLIGHT
BEGIN:STANDARD
TZOFFSETFROM:+0200
TZOFFSETTO:+0100
TZNAME:CET
DTSTART:20251026T010000
END:STANDARD
BEGIN:DAYLIGHT
TZOFFSETFROM:+0100
TZOFFSETTO:+0200
TZNAME:CEST
DTSTART:20260329T010000
END:DAYLIGHT
BEGIN:STANDARD
TZOFFSETFROM:+0200
TZOFFSETTO:+0100
TZNAME:CET
DTSTART:20261025T010000
END:STANDARD
END:VTIMEZONE
BEGIN:VEVENT
DTSTART;TZID=Europe/Paris:20251203T210000
DTEND;TZID=Europe/Paris:20251203T214500
DTSTAMP:20260423T201003
CREATED:20251109T060750Z
LAST-MODIFIED:20251109T060750Z
UID:13354-1764795600-1764798300@apparennes.com
SUMMARY:Paige Kennedy
DESCRIPTION:Première française\nPremier·ère artiste à prendre le micro lors de ces 47es Trans Musicales\, l’Anglais·e Paige Kennedy fera également son tout premier concert en France à cette occasion ! Sa musique est un véritable bol d’air frais\, une dance pop électronique\, funky et accrocheuse\, où des guitares rock viennent parfois booster l’énergie déjà contagieuse des morceaux joués par Paige Kennedy et son groupe. Ses textes traitent notamment de l’acceptation de soi et de ses différences\, ainsi que du mégenrage\, comme dans son tube en puissance\, Lingerie Model.\nEP : Babylotion (Open Sandwich Records\, 2024)\nPhoto : Keira Cullinane
URL:https://apparennes.com/event/paige-kennedy/
LOCATION:Salle de la Cité\, 10 Rue Saint-Louis\, Rennes\, Bretagne\, 35000\, France
CATEGORIES:Pop
ATTACH;FMTTYPE=image/jpeg:https://apparennes.com/wp-content/uploads/2025/11/0011d837-1b69-40f9-b8c8-e75d2a199b03.jpeg
END:VEVENT
BEGIN:VEVENT
DTSTART;TZID=Europe/Paris:20251203T233500
DTEND;TZID=Europe/Paris:20251204T003500
DTSTAMP:20260423T201003
CREATED:20251109T060708Z
LAST-MODIFIED:20251109T060708Z
UID:13322-1764804900-1764808500@apparennes.com
SUMMARY:Little Barrie & Malcolm Catto
DESCRIPTION:Première venue en France\nRappel des épisodes précédents. En 2000\, le guitariste Barrie Cadogan (entendu depuis sur le générique de la série Better Call Saul\, mais aussi chez Morrissey\, Primal Scream\, Paul Weller\, Liam Gallagher\, The Chemical Brothers…) fonde le groupe Little Barrie\, avec le bassiste Lewis Wharton\, pour jouer un rock racé\, hérité du British blues boom des ‘60s. En 2017\, la disparition du batteur Virgil Howe met le groupe sur la touche. Le triangle rock se reforme en 2020 avec la participation de Malcolm Catto\, batteur/producteur et cofondateur de The Heliocentrics\, collectif perfusé au groove hypnotique (il a également collaboré avec Madlib\, DJ Shadow\, Mulatu Astatke…). En 2025\, le trio repart dans ses explorations aux confins de la soul et du jazz avec Electric War\, un album éclairé par la production de Dan Auerbach des Black Keys. Un voyage psyché au cœur de ténèbres vaudous.\nAlbum : Electric War (autoproduction/Easy Eye Sound\, 2025)
URL:https://apparennes.com/event/little-barrie-malcolm-catto/
LOCATION:Salle de la Cité\, 10 Rue Saint-Louis\, Rennes\, Bretagne\, 35000\, France
CATEGORIES:Pop
ATTACH;FMTTYPE=image/jpeg:https://apparennes.com/wp-content/uploads/2025/11/ea62ae9d-3c0e-4da7-80e9-d0cf61c9f4a9.jpeg
END:VEVENT
BEGIN:VEVENT
DTSTART;TZID=Europe/Paris:20251204T121500
DTEND;TZID=Europe/Paris:20251204T131500
DTSTAMP:20260423T201003
CREATED:20251109T054837Z
LAST-MODIFIED:20251109T054837Z
UID:13182-1764850500-1764854100@apparennes.com
SUMMARY:Melissa Weikart
DESCRIPTION:Comment revenir à l’essentiel si ce n’est en étant pleinement soi ? La musicienne franco-américaine Melissa Weikart est animée par un esprit d’expérimentation et d’ouverture qui lui permet aujourd’hui de façonner une musique hybride avec un haut degré de sensibilité. Elle s’inscrit dans une avant-pop intimiste\, marquée par sa formation de piano classique\, son amour du jazz (diplômée d’un Master en Improvisation Contemporaine du New England Conservatory de Boston) et sa passion pour la chanson folk.
URL:https://apparennes.com/event/melissa-weikart/
LOCATION:Salle de la Cité\, 10 Rue Saint-Louis\, Rennes\, Bretagne\, 35000\, France
CATEGORIES:Pop
ATTACH;FMTTYPE=image/jpeg:https://apparennes.com/wp-content/uploads/2025/11/z690b7c1be7074f3cdc2ffc99_square.jpg
END:VEVENT
BEGIN:VEVENT
DTSTART;TZID=Europe/Paris:20251204T193000
DTEND;TZID=Europe/Paris:20251204T203000
DTSTAMP:20260423T201003
CREATED:20251109T054425Z
LAST-MODIFIED:20251109T054425Z
UID:13074-1764876600-1764880200@apparennes.com
SUMMARY:Aprile
DESCRIPTION:Loin d’être une énième candidate au célèbre télé-crochet The Voice\, Aprile s’inscrit dans la lignée de celles qui ont donné ses lettres de noblesse à la chanson française actuelle. Navigant entre pop\, douceur disco et électronica acidulée\, ses refrains à l’efficacité entêtante n’ont pas fini de vous tourner au creux des oreilles !
URL:https://apparennes.com/event/aprile/
LOCATION:Théâtre de la Parcheminerie\, 23 Rue de la Parcheminerie\, Rennes\, Bretagne\, 35000\, France
CATEGORIES:Pop
ATTACH;FMTTYPE=image/jpeg:https://apparennes.com/wp-content/uploads/2025/11/z68fb1f7a8e5f272d9a5ee65a_square.jpg
END:VEVENT
BEGIN:VEVENT
DTSTART;TZID=Europe/Paris:20251204T193000
DTEND;TZID=Europe/Paris:20251204T203000
DTSTAMP:20260423T201003
CREATED:20251109T054428Z
LAST-MODIFIED:20251109T054428Z
UID:13076-1764876600-1764880200@apparennes.com
SUMMARY:Ariane Roy
DESCRIPTION:Révélation de la chanson québécoise multi-primée en 2021 et 2022\, Ariane Roy débarque cette année en France avec un second album très réussi entre pop solaire\, confidences intimes\, orchestrations efficaces et surtout bourré de hits à chanter sous la douche. À recommander si vous aimez Clara Luciani ou Juliette Armanet !
URL:https://apparennes.com/event/ariane-roy/
LOCATION:Théâtre de la Parcheminerie\, 23 Rue de la Parcheminerie\, Rennes\, Bretagne\, 35000\, France
CATEGORIES:Pop
ATTACH;FMTTYPE=image/jpeg:https://apparennes.com/wp-content/uploads/2025/11/z68f9f5ac8e5f272d9a5ee610_square.jpg
END:VEVENT
BEGIN:VEVENT
DTSTART;TZID=Europe/Paris:20251204T193000
DTEND;TZID=Europe/Paris:20251204T203000
DTSTAMP:20260423T201003
CREATED:20251109T054914Z
LAST-MODIFIED:20251109T054914Z
UID:13200-1764876600-1764880200@apparennes.com
SUMMARY:Okali
DESCRIPTION:Okali est un nom de famille du Cameroun qui signifie « Faire attention à l’autre». Comme les peintres de l’art naïf\, et souhaitant rester dans le symbolisme\, elle compose sans codes\, afin de vivre la musique dans sa forme la plus instinctive. À travers une esthétique de la suggestion\, elle invoque les signes visibles d’un monde mystérieux\, où l’image vient fusionner avec les mélodies. C’est un périple aux sonorités afro\, trip-hop\, dub\, et rock\, dont les vagues de guitare\, et les voix incarnées\, sont les battements d’une musique sensible\, comme surgie d’ailleurs…
URL:https://apparennes.com/event/okali/
LOCATION:Théâtre de la Parcheminerie\, 23 Rue de la Parcheminerie\, Rennes\, Bretagne\, 35000\, France
CATEGORIES:Pop
ATTACH;FMTTYPE=image/jpeg:https://apparennes.com/wp-content/uploads/2025/11/z6901eae78e5f272d9a5ee6f2_square.jpg
END:VEVENT
BEGIN:VEVENT
DTSTART;TZID=Europe/Paris:20251204T193000
DTEND;TZID=Europe/Paris:20251204T203000
DTSTAMP:20260423T201003
CREATED:20251109T054923Z
LAST-MODIFIED:20251109T054923Z
UID:13204-1764876600-1764880200@apparennes.com
SUMMARY:Perséphone
DESCRIPTION:Veuillez accepter les cookies pour accéder à ce contenu
URL:https://apparennes.com/event/persephone/
LOCATION:Théâtre de la Parcheminerie\, 23 Rue de la Parcheminerie\, Rennes\, Bretagne\, 35000\, France
CATEGORIES:Pop
ATTACH;FMTTYPE=image/jpeg:https://apparennes.com/wp-content/uploads/2025/11/z6903800381225d03ed725d32_square.jpg
END:VEVENT
BEGIN:VEVENT
DTSTART;TZID=Europe/Paris:20251204T201500
DTEND;TZID=Europe/Paris:20251204T211500
DTSTAMP:20260423T201003
CREATED:20251109T054931Z
LAST-MODIFIED:20251109T054931Z
UID:13208-1764879300-1764882900@apparennes.com
SUMMARY:Requin Chagrin
DESCRIPTION:Veuillez accepter les cookies pour accéder à ce contenu
URL:https://apparennes.com/event/requin-chagrin/
LOCATION:La Place\, 7 Rue du Champ Jacquet\, Rennes\, Bretagne\, 35000\, France
CATEGORIES:Pop
ATTACH;FMTTYPE=image/jpeg:https://apparennes.com/wp-content/uploads/2025/11/z690487ae81225d03ed725d3e_square.jpg
END:VEVENT
BEGIN:VEVENT
DTSTART;TZID=Europe/Paris:20251204T203000
DTEND;TZID=Europe/Paris:20251204T213000
DTSTAMP:20260423T201003
CREATED:20251109T054409Z
LAST-MODIFIED:20251109T054409Z
UID:13066-1764880200-1764883800@apparennes.com
SUMMARY:0nlyfun
DESCRIPTION:0nlyfun c’est des mots qui tapent fort sur une musique qui tape fort. L’approche de la trentaine\, la désillusion qui va avec\, le mansplaining\, le burnout social\, autant de sujets qui débordent et explosent sur des kicks sauvages. «On veut procurer des sensations\, parler de choses qui nous tiennent à cœur\, nous font du mal ou nous bouleversent. On veut crier quand on est triste\, danser quand on est en colère\, se retrouver pour aller mieux. Le tout c’est de vivre. » Voilà qui promet…
URL:https://apparennes.com/event/0nlyfun/
LOCATION:La Cavale\, La Rotonde\, Rennes\, Bretagne\, 35000
CATEGORIES:Pop
ATTACH;FMTTYPE=image/jpeg:https://apparennes.com/wp-content/uploads/2025/11/z68f9f53b8e5f272d9a5ee60c_square.jpg
END:VEVENT
BEGIN:VEVENT
DTSTART;TZID=Europe/Paris:20251204T203000
DTEND;TZID=Europe/Paris:20251204T213000
DTSTAMP:20260423T201003
CREATED:20251109T054939Z
LAST-MODIFIED:20251109T054939Z
UID:13212-1764880200-1764883800@apparennes.com
SUMMARY:Romsii
DESCRIPTION:Veuillez accepter les cookies pour accéder à ce contenu
URL:https://apparennes.com/event/romsii/
LOCATION:Ty Anna\, 19 Place Sainte-Anne\, Rennes\, Bretagne\, 35000\, France
CATEGORIES:Pop
ATTACH;FMTTYPE=image/jpeg:https://apparennes.com/wp-content/uploads/2025/11/z6908e70f52f4fb21b86af74f_square.jpg
END:VEVENT
BEGIN:VEVENT
DTSTART;TZID=Europe/Paris:20251205T193000
DTEND;TZID=Europe/Paris:20251205T203000
DTSTAMP:20260423T201003
CREATED:20251109T054657Z
LAST-MODIFIED:20251109T054657Z
UID:13132-1764963000-1764966600@apparennes.com
SUMMARY:Felix Antonio
DESCRIPTION:Lumineuse nostalgie sous le bras et voix d’ange en étendard\, ce jeune compositeur parisien célèbre la folk la plus pure qui soit au fil d’un répertoire bluffant de maturité. On pense à Angus Stone\, aux bleuettes d’un Jack Johnson dépouillé et aux grandes heures du folk désertique US des 70’s. Superbe !
URL:https://apparennes.com/event/felix-antonio/
LOCATION:Théâtre de la Parcheminerie\, 23 Rue de la Parcheminerie\, Rennes\, Bretagne\, 35000\, France
CATEGORIES:Pop
ATTACH;FMTTYPE=image/jpeg:https://apparennes.com/wp-content/uploads/2025/11/z68f9fc978e5f272d9a5ee643_square.jpg
END:VEVENT
BEGIN:VEVENT
DTSTART;TZID=Europe/Paris:20251205T200000
DTEND;TZID=Europe/Paris:20251205T210000
DTSTAMP:20260423T201003
CREATED:20251109T054458Z
LAST-MODIFIED:20251109T054458Z
UID:13092-1764964800-1764968400@apparennes.com
SUMMARY:Billet Doux
DESCRIPTION:Veuillez accepter les cookies pour accéder à ce contenu
URL:https://apparennes.com/event/billet-doux/
LOCATION:La Place\, 7 Rue du Champ Jacquet\, Rennes\, Bretagne\, 35000\, France
CATEGORIES:Pop
ATTACH;FMTTYPE=image/jpeg:https://apparennes.com/wp-content/uploads/2025/11/z690dbf33e7074f3cdc2ffcaa_square.jpg
END:VEVENT
BEGIN:VEVENT
DTSTART;TZID=Europe/Paris:20251205T200000
DTEND;TZID=Europe/Paris:20251205T210000
DTSTAMP:20260423T201003
CREATED:20251109T054542Z
LAST-MODIFIED:20251109T054542Z
UID:13112-1764964800-1764968400@apparennes.com
SUMMARY:Copycat
DESCRIPTION:Veuillez accepter les cookies pour accéder à ce contenu
URL:https://apparennes.com/event/copycat/
LOCATION:Salle de la Cité\, 10 Rue Saint-Louis\, Rennes\, Bretagne\, 35000\, France
CATEGORIES:Pop
ATTACH;FMTTYPE=image/jpeg:https://apparennes.com/wp-content/uploads/2025/11/z68ff74238e5f272d9a5ee66a_square.jpg
END:VEVENT
BEGIN:VEVENT
DTSTART;TZID=Europe/Paris:20251205T200000
DTEND;TZID=Europe/Paris:20251205T210000
DTSTAMP:20260423T201003
CREATED:20251109T054951Z
LAST-MODIFIED:20251109T054951Z
UID:13218-1764964800-1764968400@apparennes.com
SUMMARY:Savanah
DESCRIPTION:Décidément très en vogue\, la chanson française du XXIème siècle n’en finit plus de se réinventer. La preuve avec Savanah qui débarque dans le game comme on rêve sa vie. Folk\, pop\, dans ses morceaux fabriqués à l’envolée sur son piano\, elle aime évoquer les choses tristes de la vie sur des mélodies brumeuses qui laissent percer de pâles rayons de soleil.
URL:https://apparennes.com/event/savanah/
LOCATION:La Place\, 7 Rue du Champ Jacquet\, Rennes\, Bretagne\, 35000\, France
CATEGORIES:Pop
ATTACH;FMTTYPE=image/jpeg:https://apparennes.com/wp-content/uploads/2025/11/z6904d1ac81225d03ed725d57_square.jpg
END:VEVENT
BEGIN:VEVENT
DTSTART;TZID=Europe/Paris:20251205T203000
DTEND;TZID=Europe/Paris:20251205T213000
DTSTAMP:20260423T201003
CREATED:20251109T054833Z
LAST-MODIFIED:20251109T054833Z
UID:13180-1764966600-1764970200@apparennes.com
SUMMARY:Melina
DESCRIPTION:Melina a vu le jour dans une famille baignée par la musique grecque traditionnelle. Aujourd’hui\, entre tradition et modernité\, elle pioche dans son héritage culturel et construit son propre langage musical dans lequel influences méditerranéennes et pop européenne se lient amoureusement.
URL:https://apparennes.com/event/melina/
LOCATION:La Cavale\, La Rotonde\, Rennes\, Bretagne\, 35000
CATEGORIES:Pop
ATTACH;FMTTYPE=image/jpeg:https://apparennes.com/wp-content/uploads/2025/11/z68f9f27e8e5f272d9a5ee600_square.jpg
END:VEVENT
BEGIN:VEVENT
DTSTART;TZID=Europe/Paris:20251205T203000
DTEND;TZID=Europe/Paris:20251205T213000
DTSTAMP:20260423T201003
CREATED:20251109T054959Z
LAST-MODIFIED:20251109T054959Z
UID:13222-1764966600-1764970200@apparennes.com
SUMMARY:Simone D'Opale
DESCRIPTION:Né de la rencontre entre Manon Claude\, chanteuse multi-récompensée et Paul Dechaume (Marquis de Sade\, Da Silva)\, Simone d’Opale joue dans la cour indie avec malice et nostalgie\, slalomant entre motifs électroniques (Radiohead) et nappes vocales vaporeuses (Beach House). On a connu pire comme références…
URL:https://apparennes.com/event/simone-dopale/
LOCATION:Ty Anna\, 19 Place Sainte-Anne\, Rennes\, Bretagne\, 35000\, France
CATEGORIES:Pop
ATTACH;FMTTYPE=image/jpeg:https://apparennes.com/wp-content/uploads/2025/11/z68fb40178e5f272d9a5ee666_square.jpg
END:VEVENT
BEGIN:VEVENT
DTSTART;TZID=Europe/Paris:20251206T190000
DTEND;TZID=Europe/Paris:20251206T200000
DTSTAMP:20260423T201003
CREATED:20251109T054450Z
LAST-MODIFIED:20251109T054450Z
UID:13088-1765047600-1765051200@apparennes.com
SUMMARY:Bellboy
DESCRIPTION:Explorant de nombreux styles et toujours curieux de découvrir de nouvelles sonorités\, ce duo crée des chansons en français\, au format pop\, servies par des arrangements inattendus. Bellboy fait cohabiter le vocodeur et les chœurs angéliques\, les boîtes à rythmes et les violons\, le lyrisme d’Ennio Morricone et de François de Roubaix\, l’œuvre éclectique de Ryūichi Sakamoto et de Air ou encore la poésie de Brigitte Fontaine et d’Yves Simon. Classieux.
URL:https://apparennes.com/event/bellboy/
LOCATION:Désordre\, Semprun\, Rennes\, Bretagne\, 35000
CATEGORIES:Pop
ATTACH;FMTTYPE=image/jpeg:https://apparennes.com/wp-content/uploads/2025/11/z6900da498e5f272d9a5ee682_square.jpg
END:VEVENT
BEGIN:VEVENT
DTSTART;TZID=Europe/Paris:20251206T193000
DTEND;TZID=Europe/Paris:20251206T203000
DTSTAMP:20260423T201003
CREATED:20251109T054646Z
LAST-MODIFIED:20251109T054646Z
UID:13126-1765049400-1765053000@apparennes.com
SUMMARY:Dressed Like Boys
DESCRIPTION:Veuillez accepter les cookies pour accéder à ce contenu
URL:https://apparennes.com/event/dressed-like-boys/
LOCATION:Théâtre de la Parcheminerie\, 23 Rue de la Parcheminerie\, Rennes\, Bretagne\, 35000\, France
CATEGORIES:Pop
ATTACH;FMTTYPE=image/jpeg:https://apparennes.com/wp-content/uploads/2025/11/z69037e9b81225d03ed725d2f_square.jpg
END:VEVENT
BEGIN:VEVENT
DTSTART;TZID=Europe/Paris:20251206T193000
DTEND;TZID=Europe/Paris:20251206T203000
DTSTAMP:20260423T201003
CREATED:20251109T054724Z
LAST-MODIFIED:20251109T054724Z
UID:13146-1765049400-1765053000@apparennes.com
SUMMARY:Iris2000
DESCRIPTION:Veuillez accepter les cookies pour accéder à ce contenu
URL:https://apparennes.com/event/iris2000/
LOCATION:Théâtre de la Parcheminerie\, 23 Rue de la Parcheminerie\, Rennes\, Bretagne\, 35000\, France
CATEGORIES:Pop
ATTACH;FMTTYPE=image/jpeg:https://apparennes.com/wp-content/uploads/2025/11/z6900e3438e5f272d9a5ee6ae_square.jpg
END:VEVENT
BEGIN:VEVENT
DTSTART;TZID=Europe/Paris:20251206T193000
DTEND;TZID=Europe/Paris:20251206T203000
DTSTAMP:20260423T201003
CREATED:20251109T054841Z
LAST-MODIFIED:20251109T054841Z
UID:13184-1765049400-1765053000@apparennes.com
SUMMARY:Melissende
DESCRIPTION:Un piano\, une voix\, de la mélancolie à revendre et un timbre aussi doux que celui des anges. Après une tournée faite d’ouvertures pour M\, November Ultra ou Barbara Pravi\, elle dévoile un EP sensible et intime qui promet lives au creux de l’oreille et poésie sensible.
URL:https://apparennes.com/event/melissende/
LOCATION:Théâtre de la Parcheminerie\, 23 Rue de la Parcheminerie\, Rennes\, Bretagne\, 35000\, France
CATEGORIES:Pop
ATTACH;FMTTYPE=image/jpeg:https://apparennes.com/wp-content/uploads/2025/11/z6901e9fd8e5f272d9a5ee6ec_square.jpg
END:VEVENT
BEGIN:VEVENT
DTSTART;TZID=Europe/Paris:20251206T200000
DTEND;TZID=Europe/Paris:20251206T210000
DTSTAMP:20260423T201003
CREATED:20251109T054910Z
LAST-MODIFIED:20251109T054910Z
UID:13198-1765051200-1765054800@apparennes.com
SUMMARY:Ofé
DESCRIPTION:Veuillez accepter les cookies pour accéder à ce contenu
URL:https://apparennes.com/event/ofe/
LOCATION:La Place\, 7 Rue du Champ Jacquet\, Rennes\, Bretagne\, 35000\, France
CATEGORIES:Pop
ATTACH;FMTTYPE=image/jpeg:https://apparennes.com/wp-content/uploads/2025/11/z68f9f3fe8e5f272d9a5ee609_square.jpg
END:VEVENT
BEGIN:VEVENT
DTSTART;TZID=Europe/Paris:20251207T000500
DTEND;TZID=Europe/Paris:20251207T005500
DTSTAMP:20260423T201003
CREATED:20251109T060833Z
LAST-MODIFIED:20251109T060833Z
UID:13386-1765065900-1765068900@apparennes.com
SUMMARY:Tazzmaniacs
DESCRIPTION:Le groupe rennais TAzzMANiACS rassemble six musiciens et musiciennes autour de Dingo Starr\, frontman anglo-australien bondissant à la voix auto-tunée. Une invitation funky et colorée à la danse\, sur une bande-son ultra-pop évoquant une rencontre de l’electro-boogie ‘80s du groupe Zapp et d’une version sous stéroïdes du reggae dance d’Ace of Base !\nTAzzMANiACS est accompagné par Les Trans\, avec le soutien de la SACEM.\nPhoto : Claire Huteau
URL:https://apparennes.com/event/tazzmaniacs/
LOCATION:Parc Expo – Hall 8\, La Haie Gautrais\, Bruz\, Bretagne\, France
CATEGORIES:Pop
ATTACH;FMTTYPE=image/jpeg:https://apparennes.com/wp-content/uploads/2025/11/320c7144-0830-4a33-8b57-c37ca965ba1a.jpeg
END:VEVENT
END:VCALENDAR