BEGIN:VCALENDAR
VERSION:2.0
PRODID:-//ARennes - ECPv6.15.20//NONSGML v1.0//EN
CALSCALE:GREGORIAN
METHOD:PUBLISH
X-ORIGINAL-URL:https://apparennes.com
X-WR-CALDESC:Évènements pour ARennes
REFRESH-INTERVAL;VALUE=DURATION:PT1H
X-Robots-Tag:noindex
X-PUBLISHED-TTL:PT1H
BEGIN:VTIMEZONE
TZID:Europe/Paris
BEGIN:DAYLIGHT
TZOFFSETFROM:+0100
TZOFFSETTO:+0200
TZNAME:CEST
DTSTART:20240331T010000
END:DAYLIGHT
BEGIN:STANDARD
TZOFFSETFROM:+0200
TZOFFSETTO:+0100
TZNAME:CET
DTSTART:20241027T010000
END:STANDARD
BEGIN:DAYLIGHT
TZOFFSETFROM:+0100
TZOFFSETTO:+0200
TZNAME:CEST
DTSTART:20250330T010000
END:DAYLIGHT
BEGIN:STANDARD
TZOFFSETFROM:+0200
TZOFFSETTO:+0100
TZNAME:CET
DTSTART:20251026T010000
END:STANDARD
BEGIN:DAYLIGHT
TZOFFSETFROM:+0100
TZOFFSETTO:+0200
TZNAME:CEST
DTSTART:20260329T010000
END:DAYLIGHT
BEGIN:STANDARD
TZOFFSETFROM:+0200
TZOFFSETTO:+0100
TZNAME:CET
DTSTART:20261025T010000
END:STANDARD
END:VTIMEZONE
BEGIN:VEVENT
DTSTART;TZID=Europe/Paris:20251205T193000
DTEND;TZID=Europe/Paris:20251205T203000
DTSTAMP:20260425T122131
CREATED:20251109T054657Z
LAST-MODIFIED:20251109T054657Z
UID:13132-1764963000-1764966600@apparennes.com
SUMMARY:Felix Antonio
DESCRIPTION:Lumineuse nostalgie sous le bras et voix d’ange en étendard\, ce jeune compositeur parisien célèbre la folk la plus pure qui soit au fil d’un répertoire bluffant de maturité. On pense à Angus Stone\, aux bleuettes d’un Jack Johnson dépouillé et aux grandes heures du folk désertique US des 70’s. Superbe !
URL:https://apparennes.com/event/felix-antonio/
LOCATION:Théâtre de la Parcheminerie\, 23 Rue de la Parcheminerie\, Rennes\, Bretagne\, 35000\, France
CATEGORIES:Pop
ATTACH;FMTTYPE=image/jpeg:https://apparennes.com/wp-content/uploads/2025/11/z68f9fc978e5f272d9a5ee643_square.jpg
END:VEVENT
BEGIN:VEVENT
DTSTART;TZID=Europe/Paris:20251205T200000
DTEND;TZID=Europe/Paris:20251205T210000
DTSTAMP:20260425T122131
CREATED:20251109T054458Z
LAST-MODIFIED:20251109T054458Z
UID:13092-1764964800-1764968400@apparennes.com
SUMMARY:Billet Doux
DESCRIPTION:Veuillez accepter les cookies pour accéder à ce contenu
URL:https://apparennes.com/event/billet-doux/
LOCATION:La Place\, 7 Rue du Champ Jacquet\, Rennes\, Bretagne\, 35000\, France
CATEGORIES:Pop
ATTACH;FMTTYPE=image/jpeg:https://apparennes.com/wp-content/uploads/2025/11/z690dbf33e7074f3cdc2ffcaa_square.jpg
END:VEVENT
BEGIN:VEVENT
DTSTART;TZID=Europe/Paris:20251205T200000
DTEND;TZID=Europe/Paris:20251205T210000
DTSTAMP:20260425T122131
CREATED:20251109T054542Z
LAST-MODIFIED:20251109T054542Z
UID:13112-1764964800-1764968400@apparennes.com
SUMMARY:Copycat
DESCRIPTION:Veuillez accepter les cookies pour accéder à ce contenu
URL:https://apparennes.com/event/copycat/
LOCATION:Salle de la Cité\, 10 Rue Saint-Louis\, Rennes\, Bretagne\, 35000\, France
CATEGORIES:Pop
ATTACH;FMTTYPE=image/jpeg:https://apparennes.com/wp-content/uploads/2025/11/z68ff74238e5f272d9a5ee66a_square.jpg
END:VEVENT
BEGIN:VEVENT
DTSTART;TZID=Europe/Paris:20251205T200000
DTEND;TZID=Europe/Paris:20251205T210000
DTSTAMP:20260425T122131
CREATED:20251109T054951Z
LAST-MODIFIED:20251109T054951Z
UID:13218-1764964800-1764968400@apparennes.com
SUMMARY:Savanah
DESCRIPTION:Décidément très en vogue\, la chanson française du XXIème siècle n’en finit plus de se réinventer. La preuve avec Savanah qui débarque dans le game comme on rêve sa vie. Folk\, pop\, dans ses morceaux fabriqués à l’envolée sur son piano\, elle aime évoquer les choses tristes de la vie sur des mélodies brumeuses qui laissent percer de pâles rayons de soleil.
URL:https://apparennes.com/event/savanah/
LOCATION:La Place\, 7 Rue du Champ Jacquet\, Rennes\, Bretagne\, 35000\, France
CATEGORIES:Pop
ATTACH;FMTTYPE=image/jpeg:https://apparennes.com/wp-content/uploads/2025/11/z6904d1ac81225d03ed725d57_square.jpg
END:VEVENT
BEGIN:VEVENT
DTSTART;TZID=Europe/Paris:20251205T203000
DTEND;TZID=Europe/Paris:20251205T213000
DTSTAMP:20260425T122131
CREATED:20251109T054833Z
LAST-MODIFIED:20251109T054833Z
UID:13180-1764966600-1764970200@apparennes.com
SUMMARY:Melina
DESCRIPTION:Melina a vu le jour dans une famille baignée par la musique grecque traditionnelle. Aujourd’hui\, entre tradition et modernité\, elle pioche dans son héritage culturel et construit son propre langage musical dans lequel influences méditerranéennes et pop européenne se lient amoureusement.
URL:https://apparennes.com/event/melina/
LOCATION:La Cavale\, La Rotonde\, Rennes\, Bretagne\, 35000
CATEGORIES:Pop
ATTACH;FMTTYPE=image/jpeg:https://apparennes.com/wp-content/uploads/2025/11/z68f9f27e8e5f272d9a5ee600_square.jpg
END:VEVENT
BEGIN:VEVENT
DTSTART;TZID=Europe/Paris:20251205T203000
DTEND;TZID=Europe/Paris:20251205T213000
DTSTAMP:20260425T122131
CREATED:20251109T054959Z
LAST-MODIFIED:20251109T054959Z
UID:13222-1764966600-1764970200@apparennes.com
SUMMARY:Simone D'Opale
DESCRIPTION:Né de la rencontre entre Manon Claude\, chanteuse multi-récompensée et Paul Dechaume (Marquis de Sade\, Da Silva)\, Simone d’Opale joue dans la cour indie avec malice et nostalgie\, slalomant entre motifs électroniques (Radiohead) et nappes vocales vaporeuses (Beach House). On a connu pire comme références…
URL:https://apparennes.com/event/simone-dopale/
LOCATION:Ty Anna\, 19 Place Sainte-Anne\, Rennes\, Bretagne\, 35000\, France
CATEGORIES:Pop
ATTACH;FMTTYPE=image/jpeg:https://apparennes.com/wp-content/uploads/2025/11/z68fb40178e5f272d9a5ee666_square.jpg
END:VEVENT
END:VCALENDAR