BEGIN:VCALENDAR
VERSION:2.0
PRODID:-//ARennes - ECPv6.15.20//NONSGML v1.0//EN
CALSCALE:GREGORIAN
METHOD:PUBLISH
X-ORIGINAL-URL:https://apparennes.com
X-WR-CALDESC:Évènements pour ARennes
REFRESH-INTERVAL;VALUE=DURATION:PT1H
X-Robots-Tag:noindex
X-PUBLISHED-TTL:PT1H
BEGIN:VTIMEZONE
TZID:Europe/Paris
BEGIN:DAYLIGHT
TZOFFSETFROM:+0100
TZOFFSETTO:+0200
TZNAME:CEST
DTSTART:20250330T010000
END:DAYLIGHT
BEGIN:STANDARD
TZOFFSETFROM:+0200
TZOFFSETTO:+0100
TZNAME:CET
DTSTART:20251026T010000
END:STANDARD
BEGIN:DAYLIGHT
TZOFFSETFROM:+0100
TZOFFSETTO:+0200
TZNAME:CEST
DTSTART:20260329T010000
END:DAYLIGHT
BEGIN:STANDARD
TZOFFSETFROM:+0200
TZOFFSETTO:+0100
TZNAME:CET
DTSTART:20261025T010000
END:STANDARD
BEGIN:DAYLIGHT
TZOFFSETFROM:+0100
TZOFFSETTO:+0200
TZNAME:CEST
DTSTART:20270328T010000
END:DAYLIGHT
BEGIN:STANDARD
TZOFFSETFROM:+0200
TZOFFSETTO:+0100
TZNAME:CET
DTSTART:20271031T010000
END:STANDARD
END:VTIMEZONE
BEGIN:VEVENT
DTSTART;TZID=Europe/Paris:20260508T200000
DTEND;TZID=Europe/Paris:20260509T010000
DTSTAMP:20260425T123706
CREATED:20260419T182520Z
LAST-MODIFIED:20260419T182520Z
UID:13805-1778270400-1778288400@apparennes.com
SUMMARY:St Graal
DESCRIPTION:🎸St Graal\, c’est la nouvelle pépite de la French Pop qui bouscule les codes. Avec son énergie débordante et ses textes à la fois mélancoliques et solaires\, il a conquis les réseaux sociaux avant de s’attaquer aux plus grandes scènes. Ses mélodies entêtantes et sa présence scénique électrique font de lui un artiste incontournable de la scène émergente actuelle. Un pèlerinage musical à ne pas manquer !🎸\nhttps://open.spotify.com/embed/artist/7Kgv8CorcAKsG4of90vA5I?utm_source=generator
URL:https://apparennes.com/event/st-graal-2/
LOCATION:R’n’S – Scène principale\, Allée Victor Grignard\, Rennes\, Bretagne\, France
CATEGORIES:Pop
ATTACH;FMTTYPE=image/jpeg:https://apparennes.com/wp-content/uploads/2026/04/StGraal.jpg
END:VEVENT
END:VCALENDAR