BEGIN:VCALENDAR
VERSION:2.0
PRODID:-//ARennes - ECPv6.15.20//NONSGML v1.0//EN
CALSCALE:GREGORIAN
METHOD:PUBLISH
X-ORIGINAL-URL:https://apparennes.com
X-WR-CALDESC:Évènements pour ARennes
REFRESH-INTERVAL;VALUE=DURATION:PT1H
X-Robots-Tag:noindex
X-PUBLISHED-TTL:PT1H
BEGIN:VTIMEZONE
TZID:Europe/Paris
BEGIN:DAYLIGHT
TZOFFSETFROM:+0100
TZOFFSETTO:+0200
TZNAME:CEST
DTSTART:20250330T010000
END:DAYLIGHT
BEGIN:STANDARD
TZOFFSETFROM:+0200
TZOFFSETTO:+0100
TZNAME:CET
DTSTART:20251026T010000
END:STANDARD
BEGIN:DAYLIGHT
TZOFFSETFROM:+0100
TZOFFSETTO:+0200
TZNAME:CEST
DTSTART:20260329T010000
END:DAYLIGHT
BEGIN:STANDARD
TZOFFSETFROM:+0200
TZOFFSETTO:+0100
TZNAME:CET
DTSTART:20261025T010000
END:STANDARD
BEGIN:DAYLIGHT
TZOFFSETFROM:+0100
TZOFFSETTO:+0200
TZNAME:CEST
DTSTART:20270328T010000
END:DAYLIGHT
BEGIN:STANDARD
TZOFFSETFROM:+0200
TZOFFSETTO:+0100
TZNAME:CET
DTSTART:20271031T010000
END:STANDARD
END:VTIMEZONE
BEGIN:VEVENT
DTSTART;TZID=Europe/Paris:20260508T200000
DTEND;TZID=Europe/Paris:20260509T010000
DTSTAMP:20260425T151916
CREATED:20260419T182505Z
LAST-MODIFIED:20260419T182505Z
UID:13801-1778270400-1778288400@apparennes.com
SUMMARY:Nono La Grinta
DESCRIPTION:🔥Véritable prodige de la drill et du rap de rue\, Nono La Grinta s’impose avec une énergie brute et des textes sans filtre. Originaire de la banlieue parisienne\, il a su conquérir une fan base solide grâce à sa série de freestyles percutants. Sur scène\, c’est une déflagration de kicks et de charisme qui attend le public du Rock’n Solex. Préparez-vous pour le séisme !🔥\nhttps://open.spotify.com/embed/artist/4P2HohWBtvSxxwabNDdYXN?utm_source=generator
URL:https://apparennes.com/event/nono-la-grinta/
LOCATION:R’n’S – Scène principale\, Allée Victor Grignard\, Rennes\, Bretagne\, France
CATEGORIES:Rap
ATTACH;FMTTYPE=image/jpeg:https://apparennes.com/wp-content/uploads/2026/04/NonoLaGrinta.jpg
END:VEVENT
BEGIN:VEVENT
DTSTART;TZID=Europe/Paris:20260509T200000
DTEND;TZID=Europe/Paris:20260510T010000
DTSTAMP:20260425T151916
CREATED:20260419T182527Z
LAST-MODIFIED:20260419T182527Z
UID:13807-1778356800-1778374800@apparennes.com
SUMMARY:Diddi Trix
DESCRIPTION:🎤L’enfant terrible de Bondy est de retour ! Diddi Trix\, avec son flow élastique unique et son univers décalé inspiré de la West Coast\, ramène la « Trix City » au festival. Entre humour\, lifestyle et punchlines incisives\, il a su créer une identité forte qui détonne dans le paysage rap français. C’est le moment de sortir les lunettes de soleil et de bouncer.🎤\nhttps://open.spotify.com/embed/artist/52h6A1y99QgoEf5FzKEHs1?utm_source=generator
URL:https://apparennes.com/event/diddi-trix/
LOCATION:R’n’S – Scène principale\, Allée Victor Grignard\, Rennes\, Bretagne\, France
CATEGORIES:Rap
ATTACH;FMTTYPE=image/jpeg:https://apparennes.com/wp-content/uploads/2026/04/DiddiTrix.jpg
END:VEVENT
END:VCALENDAR