BEGIN:VCALENDAR
VERSION:2.0
PRODID:-//ARennes - ECPv6.15.20//NONSGML v1.0//EN
CALSCALE:GREGORIAN
METHOD:PUBLISH
X-WR-CALNAME:ARennes
X-ORIGINAL-URL:https://apparennes.com
X-WR-CALDESC:Évènements pour ARennes
REFRESH-INTERVAL;VALUE=DURATION:PT1H
X-Robots-Tag:noindex
X-PUBLISHED-TTL:PT1H
BEGIN:VTIMEZONE
TZID:Europe/Paris
BEGIN:DAYLIGHT
TZOFFSETFROM:+0100
TZOFFSETTO:+0200
TZNAME:CEST
DTSTART:20240331T010000
END:DAYLIGHT
BEGIN:STANDARD
TZOFFSETFROM:+0200
TZOFFSETTO:+0100
TZNAME:CET
DTSTART:20241027T010000
END:STANDARD
BEGIN:DAYLIGHT
TZOFFSETFROM:+0100
TZOFFSETTO:+0200
TZNAME:CEST
DTSTART:20250330T010000
END:DAYLIGHT
BEGIN:STANDARD
TZOFFSETFROM:+0200
TZOFFSETTO:+0100
TZNAME:CET
DTSTART:20251026T010000
END:STANDARD
BEGIN:DAYLIGHT
TZOFFSETFROM:+0100
TZOFFSETTO:+0200
TZNAME:CEST
DTSTART:20260329T010000
END:DAYLIGHT
BEGIN:STANDARD
TZOFFSETFROM:+0200
TZOFFSETTO:+0100
TZNAME:CET
DTSTART:20261025T010000
END:STANDARD
END:VTIMEZONE
BEGIN:VEVENT
DTSTART;TZID=Europe/Paris:20251204T201500
DTEND;TZID=Europe/Paris:20251204T211500
DTSTAMP:20260425T124004
CREATED:20251109T054432Z
LAST-MODIFIED:20251109T054432Z
UID:13078-1764879300-1764882900@apparennes.com
SUMMARY:Astral Bakers
DESCRIPTION:Veuillez accepter les cookies pour accéder à ce contenu
URL:https://apparennes.com/event/astral-bakers/
LOCATION:Salle de la Cité\, 10 Rue Saint-Louis\, Rennes\, Bretagne\, 35000\, France
CATEGORIES:Rock
ATTACH;FMTTYPE=image/jpeg:https://apparennes.com/wp-content/uploads/2025/11/z690debdee7074f3cdc2ffcaf_square.jpg
END:VEVENT
BEGIN:VEVENT
DTSTART;TZID=Europe/Paris:20251204T203000
DTEND;TZID=Europe/Paris:20251204T213000
DTSTAMP:20260425T124004
CREATED:20251109T054846Z
LAST-MODIFIED:20251109T054846Z
UID:13186-1764880200-1764883800@apparennes.com
SUMMARY:Menades
DESCRIPTION:Veuillez accepter les cookies pour accéder à ce contenu
URL:https://apparennes.com/event/menades/
LOCATION:Penny Lane Pub\, 1 Rue de Coetquen\, Rennes\, Bretagne\, 35000\, France
CATEGORIES:Rock
ATTACH;FMTTYPE=image/jpeg:https://apparennes.com/wp-content/uploads/2025/11/z6904d19881225d03ed725d54_square.jpg
END:VEVENT
BEGIN:VEVENT
DTSTART;TZID=Europe/Paris:20251204T204500
DTEND;TZID=Europe/Paris:20251204T214500
DTSTAMP:20260425T124004
CREATED:20251109T054955Z
LAST-MODIFIED:20251109T054955Z
UID:13220-1764881100-1764884700@apparennes.com
SUMMARY:Send Me Love Letters
DESCRIPTION:Veuillez accepter les cookies pour accéder à ce contenu
URL:https://apparennes.com/event/send-me-love-letters/
LOCATION:Tête de Chou\, 15 Rue Kléber\, Rennes\, Bretagne\, 35000
CATEGORIES:Rock
ATTACH;FMTTYPE=image/jpeg:https://apparennes.com/wp-content/uploads/2025/11/z6900f8048e5f272d9a5ee6c3_square.jpg
END:VEVENT
BEGIN:VEVENT
DTSTART;TZID=Europe/Paris:20251205T190000
DTEND;TZID=Europe/Paris:20251205T200000
DTSTAMP:20260425T124004
CREATED:20251109T054607Z
LAST-MODIFIED:20251109T054607Z
UID:13122-1764961200-1764964800@apparennes.com
SUMMARY:Dordogne
DESCRIPTION:Venu du math-rock dont il ne subsiste plus aujourd’hui dans leur musique que l’amour des structures hallucinées\, ce collectif a opté pour la puissance de la transe. Bruitiste\, adepte des motifs musicaux issus de la musique traditionnelle\, leur rock s’apparente plus aujourd’hui à une sorte de bande-son pour un voyage apocalyptique et sensoriel où les corps s’oublient à force de répétition. Fascinant !
URL:https://apparennes.com/event/dordogne/
LOCATION:Désordre\, Semprun\, Rennes\, Bretagne\, 35000
CATEGORIES:Rock
ATTACH;FMTTYPE=image/jpeg:https://apparennes.com/wp-content/uploads/2025/11/z690b51b6e7074f3cdc2ffc91_square.jpg
END:VEVENT
BEGIN:VEVENT
DTSTART;TZID=Europe/Paris:20251205T200000
DTEND;TZID=Europe/Paris:20251205T210000
DTSTAMP:20260425T124004
CREATED:20251109T054414Z
LAST-MODIFIED:20251109T054414Z
UID:13068-1764964800-1764968400@apparennes.com
SUMMARY:Adult Dvd
DESCRIPTION:Veuillez accepter les cookies pour accéder à ce contenu
URL:https://apparennes.com/event/adult-dvd/
LOCATION:Salle de la Cité\, 10 Rue Saint-Louis\, Rennes\, Bretagne\, 35000\, France
CATEGORIES:Rock
ATTACH;FMTTYPE=image/jpeg:https://apparennes.com/wp-content/uploads/2025/11/z6900d88c8e5f272d9a5ee67a_square.jpg
END:VEVENT
BEGIN:VEVENT
DTSTART;TZID=Europe/Paris:20251205T203000
DTEND;TZID=Europe/Paris:20251205T213000
DTSTAMP:20260425T124004
CREATED:20251109T054519Z
LAST-MODIFIED:20251109T054519Z
UID:13102-1764966600-1764970200@apparennes.com
SUMMARY:Carnage Piknik
DESCRIPTION:Veuillez accepter les cookies pour accéder à ce contenu
URL:https://apparennes.com/event/carnage-piknik/
LOCATION:Ty Anna\, 19 Place Sainte-Anne\, Rennes\, Bretagne\, 35000\, France
CATEGORIES:Rock
ATTACH;FMTTYPE=image/jpeg:https://apparennes.com/wp-content/uploads/2025/11/z68fb3fb78e5f272d9a5ee662_square.jpg
END:VEVENT
BEGIN:VEVENT
DTSTART;TZID=Europe/Paris:20251205T203000
DTEND;TZID=Europe/Paris:20251205T213000
DTSTAMP:20260425T124004
CREATED:20251109T054528Z
LAST-MODIFIED:20251109T054528Z
UID:13106-1764966600-1764970200@apparennes.com
SUMMARY:Club Mutant
DESCRIPTION:Oui il est possible de faire du rock chanté en français en 2025. Si vous avez connu Diabologum\, Programme et avez vibré sur le post-rock de Totorro alors ne ratez pas cette formation où les guitares pyramidales le disputent à une poésie littéraire scandée à l’os.
URL:https://apparennes.com/event/club-mutant/
LOCATION:Ty Anna\, 19 Place Sainte-Anne\, Rennes\, Bretagne\, 35000\, France
CATEGORIES:Rock
ATTACH;FMTTYPE=image/jpeg:https://apparennes.com/wp-content/uploads/2025/11/z6900de218e5f272d9a5ee696_square.jpg
END:VEVENT
BEGIN:VEVENT
DTSTART;TZID=Europe/Paris:20251205T203000
DTEND;TZID=Europe/Paris:20251205T213000
DTSTAMP:20260425T124004
CREATED:20251109T054720Z
LAST-MODIFIED:20251109T054720Z
UID:13144-1764966600-1764970200@apparennes.com
SUMMARY:Île De Garde
DESCRIPTION:Un synthé\, une batterie et une voix multiformes. Voilà la formule gagnante de ce trio féminin qui explore la pop comme on navigue à bord d’un vieux vaisseau fantôme au milieu de la tempête. Du haut de furieuses vagues d’écume synthétique\, Ile de Garde s’élance au creux des déferlantes vocales et tisse un répertoire impétueux\, sauvage et surtout indomptable.
URL:https://apparennes.com/event/ile-de-garde/
LOCATION:Bloompop Café\, 34 Rue des Munitionnettes\, Bretagne\, 35136
CATEGORIES:Rock
ATTACH;FMTTYPE=image/jpeg:https://apparennes.com/wp-content/uploads/2025/11/z68f9fb558e5f272d9a5ee637_square.jpg
END:VEVENT
BEGIN:VEVENT
DTSTART;TZID=Europe/Paris:20251205T203000
DTEND;TZID=Europe/Paris:20251205T213000
DTSTAMP:20260425T124004
CREATED:20251109T054752Z
LAST-MODIFIED:20251109T054752Z
UID:13160-1764966600-1764970200@apparennes.com
SUMMARY:La Flemme
DESCRIPTION:Quand le garage rencontre l’acid et le chant en français forcément on applaudit des deux mains ! C’est le cas avec ce quatuor rock jusqu’au bout de chaque riff\, qui pratique le garage rock comme on shoote dans une poubelle sur le chemin du lycée avec l’espoir de faire un maximum de bruit ! Jouissif\, ultra énergique surtout très bien exécuté ce garage-là\, on en redemande !
URL:https://apparennes.com/event/la-flemme/
LOCATION:Penny Lane Pub\, 1 Rue de Coetquen\, Rennes\, Bretagne\, 35000\, France
CATEGORIES:Rock
ATTACH;FMTTYPE=image/jpeg:https://apparennes.com/wp-content/uploads/2025/11/z6904875c81225d03ed725d38_square.jpg
END:VEVENT
BEGIN:VEVENT
DTSTART;TZID=Europe/Paris:20251205T203000
DTEND;TZID=Europe/Paris:20251205T213000
DTSTAMP:20260425T124004
CREATED:20251109T054805Z
LAST-MODIFIED:20251109T054805Z
UID:13166-1764966600-1764970200@apparennes.com
SUMMARY:Loons
DESCRIPTION:Surgit de Montpellier\, ce trio rock plonge avec une innocence bienvenue dans les grandes heures du grunge US des 90’s. On se laisse donc emporter par l’efficacité sombre de compositions qui fleurent bon la déprime d’un Alice In Chains qui aurait avalé la capacité à écrire d’excellentes chansons de Kurt Cobain. Oui\, rien que ça !
URL:https://apparennes.com/event/loons/
LOCATION:Penny Lane Pub\, 1 Rue de Coetquen\, Rennes\, Bretagne\, 35000\, France
CATEGORIES:Rock
ATTACH;FMTTYPE=image/jpeg:https://apparennes.com/wp-content/uploads/2025/11/z6901e8e18e5f272d9a5ee6e2_square.jpg
END:VEVENT
BEGIN:VEVENT
DTSTART;TZID=Europe/Paris:20251205T203000
DTEND;TZID=Europe/Paris:20251205T213000
DTSTAMP:20260425T124004
CREATED:20251109T055020Z
LAST-MODIFIED:20251109T055020Z
UID:13232-1764966600-1764970200@apparennes.com
SUMMARY:The Lanskies
DESCRIPTION:Veuillez accepter les cookies pour accéder à ce contenu
URL:https://apparennes.com/event/the-lanskies/
LOCATION:Penny Lane Pub\, 1 Rue de Coetquen\, Rennes\, Bretagne\, 35000\, France
CATEGORIES:Rock
ATTACH;FMTTYPE=image/jpeg:https://apparennes.com/wp-content/uploads/2025/11/z6909ac3752f4fb21b86af75c_square.jpg
END:VEVENT
BEGIN:VEVENT
DTSTART;TZID=Europe/Paris:20251205T204500
DTEND;TZID=Europe/Paris:20251205T210500
DTSTAMP:20260425T124004
CREATED:20251109T060752Z
LAST-MODIFIED:20251109T060752Z
UID:13356-1764967500-1764968700@apparennes.com
SUMMARY:Paul Sous Sol
DESCRIPTION:Paul est l’un des fondateurs du label dinannais Crème Brûlée Records (Guadal Tejaz\, Dalle Béton\, Maxwell Farrington…). En dépit de son jeune âge\, il est déjà une figure de la scène rock rennaise actuelle\, et pose également sa patte sur des programmations telles que le très beau plateau écossais de la soirée « A Night In Glasgow » (en février 2025 à l’Ubu)\, grâce à un réseau étendu dans les scènes « du sous-sol ». Sa culture aiguisée des guitares amplifiées promet des moments des plus électriques en ouverture et en interplateaux\, le vendredi sur le Hall 4\, la scène la plus rock du festival.
URL:https://apparennes.com/event/paul-sous-sol/
LOCATION:Parc Expo – Hall 4\, La Haie Gautrais\, Bruz\, Bretagne\, France
CATEGORIES:Rock
ATTACH;FMTTYPE=image/jpeg:https://apparennes.com/wp-content/uploads/2025/11/0c709b4b-cb43-499a-8d9d-5740538fa10b.jpeg
END:VEVENT
BEGIN:VEVENT
DTSTART;TZID=Europe/Paris:20251205T204500
DTEND;TZID=Europe/Paris:20251205T214500
DTSTAMP:20260425T124004
CREATED:20251109T054740Z
LAST-MODIFIED:20251109T054740Z
UID:13154-1764967500-1764971100@apparennes.com
SUMMARY:Je T'Aime
DESCRIPTION:Veuillez accepter les cookies pour accéder à ce contenu
URL:https://apparennes.com/event/je-taime/
LOCATION:Tête de Chou\, 15 Rue Kléber\, Rennes\, Bretagne\, 35000
CATEGORIES:Rock
ATTACH;FMTTYPE=image/jpeg:https://apparennes.com/wp-content/uploads/2025/11/z6908e64d52f4fb21b86af73a_square.jpg
END:VEVENT
BEGIN:VEVENT
DTSTART;TZID=Europe/Paris:20251206T002000
DTEND;TZID=Europe/Paris:20251206T010000
DTSTAMP:20260425T124004
CREATED:20251109T060739Z
LAST-MODIFIED:20251109T060739Z
UID:13346-1764980400-1764982800@apparennes.com
SUMMARY:My First Time
DESCRIPTION:Première française\nMy First Time\, ce sont quatre étudiant·es (deux filles\, deux garçons) qui se rencontrent à l’université de Bristol\, deviennent ami·es et forment un groupe de rock. Le quatuor anglais\, inspiré par les récits du quotidien en milieu urbain de leurs compatriotes The Streets et Blur\, écrit rapidement des morceaux à l’efficacité pop immédiate et dont les textes associent commentaires sociaux et satire moderne. Sortent alors six singles en deux ans sur le label historique Parlophone\, comme autant de tubes rock aux riffs incisifs\, à l’énergie punk\, et aux refrains jouissifs\, dansants et libérateurs. Comme s’il ambitionnait à chaque nouveau morceau de créer un moment de lâcher-prise trans-générationnel\, ou tout simplement un tube.\nSingles : Bodybag\, Much Better et Brand New (autoproduction/Parlophone Records/Warner Music Group\, 2025)\nPhoto : Cloe Morrsion
URL:https://apparennes.com/event/my-first-time/
LOCATION:Parc Expo – Hall 4\, La Haie Gautrais\, Bruz\, Bretagne\, France
CATEGORIES:Rock
ATTACH;FMTTYPE=image/jpeg:https://apparennes.com/wp-content/uploads/2025/11/9c9fa838-5615-4f22-b2b3-1c10d0c670c3.jpeg
END:VEVENT
BEGIN:VEVENT
DTSTART;TZID=Europe/Paris:20251206T003500
DTEND;TZID=Europe/Paris:20251206T013500
DTSTAMP:20260425T124004
CREATED:20251109T060727Z
LAST-MODIFIED:20251109T060727Z
UID:13336-1764981300-1764984900@apparennes.com
SUMMARY:Maquina.
DESCRIPTION:Dirty Tracks For Clubbing\, titre du premier album du trio MAQUINA.\, expose clairement son projet : faire vibrer les dancefloors avec une musique sale. Créés autour de grooves hypnotiques\, les morceaux de cette « machine » originaire de Lisbonne explosent d’énergie et défient les genres. Est-ce du krautrock pour danser\, du rock industriel funky\, de la musique électronique sans synthétiseurs ou un rock lourd et noisy évoluant vers une transe psychédélique jubilatoire ? C’est bien tout cela à la fois\, et même plus…\nAlbum : PRATA (Fuzz Club\, 2024)\nPhoto : Francisco Cabrita
URL:https://apparennes.com/event/maquina/
LOCATION:Parc Expo – Hall 5\, La Haie Gautrais\, Bruz\, Bretagne\, France
CATEGORIES:Rock
ATTACH;FMTTYPE=image/jpeg:https://apparennes.com/wp-content/uploads/2025/11/ce0e8474-8155-46b3-beda-8fcae8b8a306.jpeg
END:VEVENT
BEGIN:VEVENT
DTSTART;TZID=Europe/Paris:20251206T183000
DTEND;TZID=Europe/Paris:20251206T193000
DTSTAMP:20260425T124004
CREATED:20251109T054829Z
LAST-MODIFIED:20251109T054829Z
UID:13178-1765045800-1765049400@apparennes.com
SUMMARY:Mdns
DESCRIPTION:Veuillez accepter les cookies pour accéder à ce contenu
URL:https://apparennes.com/event/mdns-2/
LOCATION:Salle de la Cité\, 10 Rue Saint-Louis\, Rennes\, Bretagne\, 35000\, France
CATEGORIES:Rock
ATTACH;FMTTYPE=image/jpeg:https://apparennes.com/wp-content/uploads/2025/11/z68f9f1058e5f272d9a5ee5fd_square.jpg
END:VEVENT
BEGIN:VEVENT
DTSTART;TZID=Europe/Paris:20251206T200000
DTEND;TZID=Europe/Paris:20251206T210000
DTSTAMP:20260425T124004
CREATED:20251109T054602Z
LAST-MODIFIED:20251109T054602Z
UID:13120-1765051200-1765054800@apparennes.com
SUMMARY:Don Dias
DESCRIPTION:Veuillez accepter les cookies pour accéder à ce contenu
URL:https://apparennes.com/event/don-dias/
LOCATION:Amrock\, 6g Rue de Brest\, Rennes\, Bretagne\, France
CATEGORIES:Rock
ATTACH;FMTTYPE=image/jpeg:https://apparennes.com/wp-content/uploads/2025/11/z6900e0938e5f272d9a5ee6a2_square.jpg
END:VEVENT
BEGIN:VEVENT
DTSTART;TZID=Europe/Paris:20251206T203000
DTEND;TZID=Europe/Paris:20251206T213000
DTSTAMP:20260425T124004
CREATED:20251109T054533Z
LAST-MODIFIED:20251109T054533Z
UID:13108-1765053000-1765056600@apparennes.com
SUMMARY:Coeur À L'Index
DESCRIPTION:Veuillez accepter les cookies pour accéder à ce contenu
URL:https://apparennes.com/event/coeur-a-lindex/
LOCATION:Penny Lane Pub\, 1 Rue de Coetquen\, Rennes\, Bretagne\, 35000\, France
CATEGORIES:Rock
ATTACH;FMTTYPE=image/jpeg:https://apparennes.com/wp-content/uploads/2025/11/z68f9f6cc8e5f272d9a5ee61c_square.jpg
END:VEVENT
BEGIN:VEVENT
DTSTART;TZID=Europe/Paris:20251206T203000
DTEND;TZID=Europe/Paris:20251206T213000
DTSTAMP:20260425T124004
CREATED:20251109T054713Z
LAST-MODIFIED:20251109T054713Z
UID:13140-1765053000-1765056600@apparennes.com
SUMMARY:Hantayo
DESCRIPTION:Imaginez une version 2.0 des Doors menée par un sosie de Jim Morrisson dont la voix baignée de réverb continuerait à nous parvenir depuis là où il repose aujourd’hui. Pop\, forcément psychédélique et halluciné\, ce trio coincé dans un vortex embrumé promet un live extatique !
URL:https://apparennes.com/event/hantayo/
LOCATION:Bloompop Café\, 34 Rue des Munitionnettes\, Bretagne\, 35136
CATEGORIES:Rock
ATTACH;FMTTYPE=image/jpeg:https://apparennes.com/wp-content/uploads/2025/11/z68fb1a188e5f272d9a5ee652_square.jpg
END:VEVENT
BEGIN:VEVENT
DTSTART;TZID=Europe/Paris:20251206T203000
DTEND;TZID=Europe/Paris:20251206T213000
DTSTAMP:20260425T124004
CREATED:20251109T054854Z
LAST-MODIFIED:20251109T054854Z
UID:13190-1765053000-1765056600@apparennes.com
SUMMARY:Mushary
DESCRIPTION:Veuillez accepter les cookies pour accéder à ce contenu
URL:https://apparennes.com/event/mushary/
LOCATION:Penny Lane Pub\, 1 Rue de Coetquen\, Rennes\, Bretagne\, 35000\, France
CATEGORIES:Rock
ATTACH;FMTTYPE=image/jpeg:https://apparennes.com/wp-content/uploads/2025/11/z690b5281e7074f3cdc2ffc94_square.jpg
END:VEVENT
BEGIN:VEVENT
DTSTART;TZID=Europe/Paris:20251206T204500
DTEND;TZID=Europe/Paris:20251206T214500
DTSTAMP:20260425T124004
CREATED:20251109T055028Z
LAST-MODIFIED:20251109T055028Z
UID:13236-1765053900-1765057500@apparennes.com
SUMMARY:Vera Daisies
DESCRIPTION:Moitié du binôme Ottis Coeur\, Margaux Jaudinaud déploie ses ailes en solo et convoque dans un même creuset sensible une écriture pop à la douceur brute. Déceptions amoureuses et confidences intimes mises en scène sur un fond d’écran exhumé des 90’s\, elle parvient à jeter un pont entre l’abrasion brute des Pixies et le songwriting efficace d’une Taylor Swift indie.
URL:https://apparennes.com/event/vera-daisies/
LOCATION:Tête de Chou\, 15 Rue Kléber\, Rennes\, Bretagne\, 35000
CATEGORIES:Rock
ATTACH;FMTTYPE=image/jpeg:https://apparennes.com/wp-content/uploads/2025/11/z690dbeb9e7074f3cdc2ffca7_square.jpg
END:VEVENT
BEGIN:VEVENT
DTSTART;TZID=Europe/Paris:20251206T210000
DTEND;TZID=Europe/Paris:20251206T213000
DTSTAMP:20260425T124004
CREATED:20251109T060806Z
LAST-MODIFIED:20251109T060806Z
UID:13366-1765054800-1765056600@apparennes.com
SUMMARY:Rodeo
DESCRIPTION:Derrière le nom Rodeo\, se cache un artisan de la scène rennaise : le boss du label Swish Swash (qui a notamment signé le groupe Zonbi\, également programmé aux Trans Musicales cette année). Il y est question de rock\, de post-punk et de groupes diggés\, d’Australie aux États-Unis. Alex\, de son prénom\, nous fera le plaisir d’assurer\, avec classe et énergie\, les transitions entre les concerts du Hall 4 le samedi.\nPhoto : Laura L
URL:https://apparennes.com/event/rodeo/
LOCATION:Parc Expo – Hall 4\, La Haie Gautrais\, Bruz\, Bretagne\, France
CATEGORIES:Rock
ATTACH;FMTTYPE=image/jpeg:https://apparennes.com/wp-content/uploads/2025/11/4004b80d-2b1b-49cf-9e85-6ad9ff2e5ddb.jpeg
END:VEVENT
BEGIN:VEVENT
DTSTART;TZID=Europe/Paris:20251207T023000
DTEND;TZID=Europe/Paris:20251207T032000
DTSTAMP:20260425T124004
CREATED:20251109T060639Z
LAST-MODIFIED:20251109T060639Z
UID:13304-1765074600-1765077600@apparennes.com
SUMMARY:Holiday Ghosts
DESCRIPTION:Énergie contagieuse\, sens de la mélodie et guitares virevoltantes sont les marques de Holiday Ghosts\, formation originaire de Falmouth\, dans les Cornouailles anglaises. Agrégeant avec talent des influences garage\, rock’n’roll ou jangle pop allant du Velvet Underground à Television Personalities\, le groupe cultive une approche do it yourself qui évoque parfois l’amateurisme éclairé de la scène néo-zélandaise Dunedin sound des années 1980 (The Clean\, The Chills…) et du label anglais de twee pop Sarah Records. Quatuor dont trois musicien·nes écrivent\, composent et se partagent le lead vocal\, Holiday Ghosts donne un nouveau coup de fraîcheur à la scène pop anglaise.\nSingle: New River (Fire Records\, 2025)\nAlbum : Coat of Arms (autoproduction/FatCat Records\, 2024)\nPhoto : nobodymoves
URL:https://apparennes.com/event/holiday-ghosts/
LOCATION:Parc Expo – Hall 4\, La Haie Gautrais\, Bruz\, Bretagne\, France
CATEGORIES:Rock
ATTACH;FMTTYPE=image/jpeg:https://apparennes.com/wp-content/uploads/2025/11/87de6d30-164c-42af-8c74-8504ac54d300.jpeg
END:VEVENT
END:VCALENDAR