BEGIN:VCALENDAR
VERSION:2.0
PRODID:-//ARennes - ECPv6.15.20//NONSGML v1.0//EN
CALSCALE:GREGORIAN
METHOD:PUBLISH
X-ORIGINAL-URL:https://apparennes.com
X-WR-CALDESC:Évènements pour ARennes
REFRESH-INTERVAL;VALUE=DURATION:PT1H
X-Robots-Tag:noindex
X-PUBLISHED-TTL:PT1H
BEGIN:VTIMEZONE
TZID:Europe/Paris
BEGIN:DAYLIGHT
TZOFFSETFROM:+0100
TZOFFSETTO:+0200
TZNAME:CEST
DTSTART:20250330T010000
END:DAYLIGHT
BEGIN:STANDARD
TZOFFSETFROM:+0200
TZOFFSETTO:+0100
TZNAME:CET
DTSTART:20251026T010000
END:STANDARD
BEGIN:DAYLIGHT
TZOFFSETFROM:+0100
TZOFFSETTO:+0200
TZNAME:CEST
DTSTART:20260329T010000
END:DAYLIGHT
BEGIN:STANDARD
TZOFFSETFROM:+0200
TZOFFSETTO:+0100
TZNAME:CET
DTSTART:20261025T010000
END:STANDARD
BEGIN:DAYLIGHT
TZOFFSETFROM:+0100
TZOFFSETTO:+0200
TZNAME:CEST
DTSTART:20270328T010000
END:DAYLIGHT
BEGIN:STANDARD
TZOFFSETFROM:+0200
TZOFFSETTO:+0100
TZNAME:CET
DTSTART:20271031T010000
END:STANDARD
END:VTIMEZONE
BEGIN:VEVENT
DTSTART;TZID=Europe/Paris:20260221T200000
DTEND;TZID=Europe/Paris:20260222T003000
DTSTAMP:20260423T213335
CREATED:20260215T031922Z
LAST-MODIFIED:20260215T032026Z
UID:13643-1771704000-1771720200@apparennes.com
SUMMARY:Soirée de soutien I’m From Rennes
DESCRIPTION:Après une édition 2025 marquée par une météo difficile et un contexte économique tendu et incertain\, le festival I’M FROM RENNES a subi un déficit important. Malgré le succès de la cagnotte de crowdfunding réalisée en fin d’année 2025\, les comptes ne sont toujours pas à l’équilibre. Pour garantir la tenue du festival en 2026\, à l’image des valeurs que nous défendons depuis 14 ans\, nous organisons une grande soirée de soutien le 21 février 2026 à l’Etage du Liberté. \nCette soirée de soutien\, proposée à un tarif solidaire\, sera fidèle à l’esprit du festival : festive\, conviviale et 100% locale. \nAu programme :\n– Des concerts et animations d’artistes rennais et rennaises.\n– Une vente de merchandising devenu « collector » retraçant les visuels emblématiques des années passées.\n– La présence des partenaires et de l’équipe pour échanger sur l’avenir du projet. \nNotre ambition est de continuer à défendre nos valeurs au travers d’événements gratuits et accessibles à tous.  \nPour venir à notre évènement et nous soutenir\, pensez à prendre votre billet sur le site du Liberté et à en parler autour de vous. \nPERE-MICHEL\nLe maître de cérémonie le plus célèbre du territoire (édition 2024/2025) \nLA SERPE\nChampionnat du monde de lancer de charentaises (spectacle d’improvisation théâtrale participative) (édition 2023/2024) \nTHE FLYING BONES\nGarage Rock (édition 2024) \nSUCCESS\nElectro Rock (édition 2012\, reformation à l’occasion de la soirée de soutien pour soutenir le festival) \nVILAINES TEUFS\nElectro\, performance drag (édition 2025) \nDJ CUP OF TEA\nDj Set Pop’n’Roll (édition 2021)
URL:https://apparennes.com/event/soiree-de-soutien-im-from-rennes/
LOCATION:L’Etage\, Espl. Charles de Gaulle\, Rennes\, Bretagne\, 35000\, France
CATEGORIES:Dj Set,Electro,Garage Rock,Performance Drag,Rock
ATTACH;FMTTYPE=image/jpeg:https://apparennes.com/wp-content/uploads/2026/02/IMFROMRENNES-CONCERT-SOUTIEN-2026-V2-1920x1080-1.jpg
END:VEVENT
END:VCALENDAR