BEGIN:VCALENDAR
VERSION:2.0
PRODID:-//ARennes - ECPv6.15.20//NONSGML v1.0//EN
CALSCALE:GREGORIAN
METHOD:PUBLISH
X-ORIGINAL-URL:https://apparennes.com
X-WR-CALDESC:Évènements pour ARennes
REFRESH-INTERVAL;VALUE=DURATION:PT1H
X-Robots-Tag:noindex
X-PUBLISHED-TTL:PT1H
BEGIN:VTIMEZONE
TZID:Europe/Paris
BEGIN:DAYLIGHT
TZOFFSETFROM:+0100
TZOFFSETTO:+0200
TZNAME:CEST
DTSTART:20250330T010000
END:DAYLIGHT
BEGIN:STANDARD
TZOFFSETFROM:+0200
TZOFFSETTO:+0100
TZNAME:CET
DTSTART:20251026T010000
END:STANDARD
BEGIN:DAYLIGHT
TZOFFSETFROM:+0100
TZOFFSETTO:+0200
TZNAME:CEST
DTSTART:20260329T010000
END:DAYLIGHT
BEGIN:STANDARD
TZOFFSETFROM:+0200
TZOFFSETTO:+0100
TZNAME:CET
DTSTART:20261025T010000
END:STANDARD
BEGIN:DAYLIGHT
TZOFFSETFROM:+0100
TZOFFSETTO:+0200
TZNAME:CEST
DTSTART:20270328T010000
END:DAYLIGHT
BEGIN:STANDARD
TZOFFSETFROM:+0200
TZOFFSETTO:+0100
TZNAME:CET
DTSTART:20271031T010000
END:STANDARD
END:VTIMEZONE
BEGIN:VEVENT
DTSTART;TZID=Europe/Paris:20260409T190000
DTEND;TZID=Europe/Paris:20260409T200000
DTSTAMP:20260423T203501
CREATED:20260420T013416Z
LAST-MODIFIED:20260420T013416Z
UID:13896-1775761200-1775764800@apparennes.com
SUMMARY:Le Papier Peint Jaune
DESCRIPTION:The Yellow Wallpaper\, Le papier peint jaune\, écrit par Charlotte Perkins Gilman en 1890\, est une pépite de la littérature féministe et fantastique américaine. Dans l’est américain\, une jeune femme et son mari louent une grande maison coloniale pour y séjourner avec leur nouveau-né. À l’étage se trouve la chambre d’enfant au papier peint jaune abîmé. C’est là que Jane passe l’intégralité de son séjour à l’écart du reste de la famille\, condamnée à une « thérapie du repos » par son mari médecin. Peu à peu en proie à de nombreuses hallucinations\, elle nous entraîne dans son flot de pensées\, ses prises de conscience et sa libération.\nLa traduction de Dorothée Zumstein\, l’interprétation de Marie Kauffmann ainsi que l’univers sonore et visuel donnent toute la texture de ce texte énigmatique\, ici adapté en un monologue théâtral saisissant.\nVisuel © Cédric Messemanne
URL:https://apparennes.com/event/le-papier-peint-jaune/
LOCATION:CCNRB\, 38 Rue Saint-Melaine\, Rennes\, Bretagne\, 35000\, France
CATEGORIES:Théâtre
ATTACH;FMTTYPE=image/jpeg:https://apparennes.com/wp-content/uploads/2026/04/papier-peint-jaune-1600x800-1.jpg
END:VEVENT
END:VCALENDAR